BEGIN:VCALENDAR
VERSION:2.0
PRODID:-//Les VERT-E-S Canton de Berne - ECPv6.15.15//NONSGML v1.0//EN
CALSCALE:GREGORIAN
METHOD:PUBLISH
X-WR-CALNAME:Les VERT-E-S Canton de Berne
X-ORIGINAL-URL:https://vertsberne.ch
X-WR-CALDESC:Évènements pour Les VERT-E-S Canton de Berne
REFRESH-INTERVAL;VALUE=DURATION:PT1H
X-Robots-Tag:noindex
X-PUBLISHED-TTL:PT1H
BEGIN:VTIMEZONE
TZID:Europe/Zurich
BEGIN:DAYLIGHT
TZOFFSETFROM:+0100
TZOFFSETTO:+0200
TZNAME:CEST
DTSTART:20250330T010000
END:DAYLIGHT
BEGIN:STANDARD
TZOFFSETFROM:+0200
TZOFFSETTO:+0100
TZNAME:CET
DTSTART:20251026T010000
END:STANDARD
BEGIN:DAYLIGHT
TZOFFSETFROM:+0100
TZOFFSETTO:+0200
TZNAME:CEST
DTSTART:20260329T010000
END:DAYLIGHT
BEGIN:STANDARD
TZOFFSETFROM:+0200
TZOFFSETTO:+0100
TZNAME:CET
DTSTART:20261025T010000
END:STANDARD
BEGIN:DAYLIGHT
TZOFFSETFROM:+0100
TZOFFSETTO:+0200
TZNAME:CEST
DTSTART:20270328T010000
END:DAYLIGHT
BEGIN:STANDARD
TZOFFSETFROM:+0200
TZOFFSETTO:+0100
TZNAME:CET
DTSTART:20271031T010000
END:STANDARD
END:VTIMEZONE
BEGIN:VEVENT
DTSTART;TZID=Europe/Zurich:20260815T150000
DTEND;TZID=Europe/Zurich:20260815T233000
DTSTAMP:20260421T190929
CREATED:20260421T135109Z
LAST-MODIFIED:20260421T135109Z
UID:13418-1786806000-1786836600@vertsberne.ch
SUMMARY:20 ans les VERT-E-S Canton de Berne
DESCRIPTION:
URL:https://vertsberne.ch/event/20-ans-les-vert-e-s-canton-de-berne
LOCATION:Lady Evelyn\, Scheibenstrasse 6\, Thun\, 3600
END:VEVENT
END:VCALENDAR